0.00997053666548297
0.000000
0.000000
-0.00997053666548297
-94.177177623402
46.5599141762473
