0.0101564996892756
0.000000
0.000000
-0.0101564996892756
-87.7618728776412
47.6949606600675
