0.00867198597301136
0.000000
0.000000
-0.00867198597301136
-83.7162630948153
36.3294614618475
