0.0079986572265625
0.000000
0.000000
-0.0079986572265625
-99.8145965576172
28.1116317749023
