0.00876584139737214
0.000000
0.000000
-0.00876584139737214
-123.021373221657
37.2442247147994
