0.010087363503196
0.000000
0.000000
-0.010087363503196
-76.1871657354181
47.2799828685414
