0.00879927201704547
0.000000
0.000000
-0.00879927201704547
-109.45838001598
37.5654016945579
