0.0145454545454545
0.000000
0.000000
-0.0145454545454545
-94.3403647960316
36.2727260520241
