0.0145454545454545
0.000000
0.000000
-0.0145454545454545
-126.033365589489
42.4937267234109
