0.0145454545454545
0.000000
0.000000
-0.0145454545454545
-109.162363392223
45.1447276999734
