0.0145454545454545
0.000000
0.000000
-0.0145454545454545
-101.775362354625
29.9087276389382
