0.0145454545454546
0.000000
0.000000
-0.0145454545454546
-128.647364002575
44.4917278220437
