0.0145454545454545
0.000000
0.000000
-0.0145454545454545
-81.3643668712269
40.9767284323952
