0.0145454545454546
0.000000
0.000000
-0.0145454545454546
-150.657358509411
63.4547290732644
