0.0103606900301846
0.000000
0.000000
-0.0103606900301846
-70.9100258705833
48.8830108781294
