0.0103262051669034
0.000000
0.000000
-0.0103262051669034
-111.698701255105
48.6885434098677
