0.0166918390447443
0.000000
0.000000
-0.0166918390447443
-170.292205061479
69.09391085538
