0.00984522039240057
0.000000
0.000000
-0.00984522039240057
-111.425640883012
45.7685148898038
