0.008919677734375
0.000000
0.000000
-0.008919677734375
-89.2344470214844
38.6954531860352
