0.0138271262428977
0.000000
0.000000
-0.0138271262428977
-160.768223211115
62.4755464588512
