0.017971305190311
0.000000000000000
0.000000000000000
-0.017971305190311
-117.91587072110748
39.623843253114444
