0.017971305190311
0.000000000000000
0.000000000000000
-0.017971305190311
-90.24006072802854
36.928147474567794
