0.017971305190311
0.000000000000000
0.000000000000000
-0.017971305190311
-127.620375523875420
42.319539031661094
