0.017971305190311
0.000000000000000
0.000000000000000
-0.017971305190311
-81.61383423667926
49.508061107785494
