0.056711
0.00
0.00
-0.056711
-133.63092
53.417103
