0.091825
0.00
0.00
-0.091825
-125.718254
55.115082
