0.023349
0.00
0.00
-0.023349
-106.893494
41.019844
