0.019026
0.00
0.00
-0.019026
-89.633553
42.720261
