0.019444
0.00
0.00
-0.019444
-79.39444
47.863888
