0.011111
0.00
0.00
-0.011111
-111.111115
45.222221
