0.009211
0.00
0.00
-0.009211
-83.168419
40.742107
