0.012105
0.00
0.00
-0.012105
-93.784218
47.22105
