0.01254
0.00
0.00
-0.01254
-124.9254
49.757938
