0.013175
0.00
0.00
-0.013175
-83.831741
40.634918
