0.013158
0.00
0.00
-0.013158
-115.776314
42.13158
