0.014603
0.00
0.00
-0.014603
-102.846031
31.370634
