0.010789
0.00
0.00
-0.010789
-100.256577
34.707893
