0.01373
0.00
0.00
-0.01373
-90.437302
38.596035
