0.011984
0.00
0.00
-0.011984
-104.119843
46.571827
