0.008421
0.00
0.00
-0.008421
-83.686844
35.28421
