0.032
0.00
0.00
-0.032
-121.074997
43.779999
