0.005873
0.00
0.00
-0.005873
-68.099998
19.215872
