0.009206
0.00
0.00
-0.009206
-80.592064
42.84127
