0.012937
0.00
0.00
-0.012937
-124.729362
46.737301
