0.013651
0.00
0.00
-0.013651
-103.136505
38.030159
