0.009605
0.00
0.00
-0.009605
-85.771713
42.096054
