0.01254
0.00
0.00
-0.01254
-79.875397
45.257938
