0.018421
0.00
0.00
-0.018421
-122.986847
42.184212
