0.006579
0.00
0.00
-0.006579
-76.888153
41.46579
