0.006842
0.00
0.00
-0.006842
-74.298676
45.36842
